BEGIN:VCALENDAR
VERSION:2.0
PRODID:-//Asian SEED Academy of Technology - ECPv5.2.1//NONSGML v1.0//EN
CALSCALE:GREGORIAN
METHOD:PUBLISH
X-WR-CALNAME:Asian SEED Academy of Technology
X-ORIGINAL-URL:https://asat.edu.ph
X-WR-CALDESC:Events for Asian SEED Academy of Technology
BEGIN:VTIMEZONE
TZID:UTC
BEGIN:STANDARD
TZOFFSETFROM:+0000
TZOFFSETTO:+0000
TZNAME:UTC
DTSTART:20220101T000000
END:STANDARD
END:VTIMEZONE
BEGIN:VEVENT
DTSTART;TZID=UTC:20221202T170000
DTEND;TZID=UTC:20221202T210000
DTSTAMP:20260422T164234
CREATED:20230706T181712Z
LAST-MODIFIED:20230706T181712Z
UID:14878-1670000400-1670014800@asat.edu.ph
SUMMARY:A Jolly Good Time! An Afternoon of Fun and Thanksgiving
DESCRIPTION:As an emerging school\, ASAT is still trying to expand over the course of time. With the help of other schools\, ASAT aims to build connections all throughout the area. Securing possible feeder schools for students who are looking for ICT courses or anything that relates to Information Technology. Which is why ASAT hosted an event\, inviting principals from nearby schools in the Las Piñas area with the intention of building better connections and a foundation for trust and ambition through education.
URL:https://asat.edu.ph/event/a-jolly-good-time-an-afternoon-of-fun-and-thanksgiving/
END:VEVENT
END:VCALENDAR